BEGIN:VCALENDAR
VERSION:2.0
PRODID:-//Squarespace Inc/Squarespace 6//v6//EN
BEGIN:VEVENT
UID:5314a054e4b080d644c3165e@squarespace.com
DTSTAMP:20140326T144143Z
DTSTART:20140620T130000Z
DTEND:20140627T210000Z
SUMMARY:Summer Fire Conference
GEO:51.801175;-8.243056
LOCATION:Trabolgan
END:VEVENT
END:VCALENDAR
