BEGIN:VCALENDAR
VERSION:2.0
PRODID:-//Squarespace Inc/Squarespace 6//v6//EN
BEGIN:VEVENT
UID:58808c7cb3db2bc35c5c6e39@squarespace.com
DTSTAMP:20170119T110716Z
DTSTART:20170204T100000Z
DTEND:20170204T163000Z
SUMMARY:Walk Through the the Bible (Old Testament)
GEO:53.347272;-6.343053
LOCATION:WIN Dublin Church\, Chapelizod\, Unit G5\, Chapelizod Industrial E
 state\, Dublin 20
END:VEVENT
END:VCALENDAR
