BEGIN:VCALENDAR
VERSION:2.0
PRODID:-//Squarespace Inc/Squarespace 6//v6//EN
BEGIN:VEVENT
UID:589d85a4893fc0ec10a82cfb@squarespace.com
DTSTAMP:20170210T092126Z
DTSTART:20170216T193000Z
DTEND:20170216T210000Z
SUMMARY:Learning and Leading Across Generations
GEO:53.34333;-6.28238
LOCATION:St Catherine's Church\, Thomas Street\, Dublin\, County Dublin\, I
 reland
END:VEVENT
END:VCALENDAR
