BEGIN:VCALENDAR
VERSION:2.0
PRODID:-//Squarespace Inc/Squarespace 6//v6//EN
BEGIN:VEVENT
UID:587e61f92e69cf0b68439791@squarespace.com
DTSTAMP:20170117T183104Z
DTSTART:20170215T193000Z
DTEND:20170215T203000Z
SUMMARY:Explore Night
GEO:53.389063;-6.381909
LOCATION:Crowne Plaza Dublin - Blanchardstown\, Blanchardstown Centre\, Bla
 nchardstown Town\, Dublin 15
END:VEVENT
END:VCALENDAR
