BEGIN:VCALENDAR
VERSION:2.0
PRODID:-//Squarespace Inc/Squarespace 6//v6//EN
BEGIN:VEVENT
UID:5859530337c581e8cda3dc6b@squarespace.com
DTSTAMP:20161220T160201Z
DTSTART:20170128T100000Z
DTEND:20170128T160000Z
SUMMARY:Engage Children’s Ministry Training Day
GEO:53.443491;-6.195449
LOCATION:Swords Baptist Church\, Co. Dublin\, Feltrim Road\, Swords\, Count
 y Dublin\, Ireland
END:VEVENT
END:VCALENDAR
