BEGIN:VCALENDAR
VERSION:2.0
PRODID:-//Squarespace Inc/Squarespace 6//v6//EN
BEGIN:VEVENT
UID:58467c95197aeac7d8b2d680@squarespace.com
DTSTAMP:20161206T090322Z
DTSTART:20170124T193000Z
DTEND:20170124T213000Z
SUMMARY:Alpha in Blackrock
GEO:53.28619;-6.176818
LOCATION:Church of the Guardian Angels\, Blackrock\, Newtownpark Avenue\, C
 o. Dublin
END:VEVENT
END:VCALENDAR
