BEGIN:VCALENDAR
VERSION:2.0
PRODID:-//Squarespace Inc/Squarespace 6//v6//EN
BEGIN:VEVENT
UID:57b57cced1758e84f3f25cbe@squarespace.com
DTSTAMP:20160818T092813Z
DTSTART:20160909T183000Z
DTEND:20160909T203000Z
SUMMARY:An Evening Encounter with Christ's Holy Fire
GEO:53.201932;-6.097364
LOCATION:Esplenade Hotel\, Bray\, Sea Front\, Bray\, Co. Wicklow
END:VEVENT
END:VCALENDAR
