BEGIN:VCALENDAR
VERSION:2.0
PRODID:-//Squarespace Inc/Squarespace 6//v6//EN
BEGIN:VEVENT
UID:57d82f7cd1758e771addec10@squarespace.com
DTSTAMP:20160914T092110Z
DTSTART:20160930T190000Z
DTEND:20160930T210000Z
SUMMARY:HeART Story
GEO:52.058051;-9.508792
LOCATION:Killarney Methodist Church\, Kenmare Place\, Killarney\, County Ke
 rry\, Ireland
END:VEVENT
END:VCALENDAR
