BEGIN:VCALENDAR
VERSION:2.0
PRODID:-//Squarespace Inc/Squarespace 6//v6//EN
BEGIN:VEVENT
UID:57cfd7fcf5e231cca9892e86@squarespace.com
DTSTAMP:20160907T091324Z
DTSTART:20160924T090000Z
DTEND:20160924T160000Z
SUMMARY:International Christian Embassy Jerusalem Conference
GEO:53.035056;-7.301927
LOCATION:Killeshin Hotel\, Portlaoise
END:VEVENT
END:VCALENDAR
