BEGIN:VCALENDAR
VERSION:2.0
PRODID:-//Squarespace Inc/Squarespace 6//v6//EN
BEGIN:VEVENT
UID:57e3e49237c581fc1153a1ed@squarespace.com
DTSTAMP:20160922T140941Z
DTSTART:20161105T100000Z
DTEND:20161105T160000Z
SUMMARY:Living with Hope
GEO:51.886402;-8.446905
LOCATION:Ardfallen Centre\, Nursery Drive\, Cork\, County Cork\, Ireland
END:VEVENT
END:VCALENDAR
