BEGIN:VCALENDAR
VERSION:2.0
PRODID:-//Squarespace Inc/Squarespace 6//v6//EN
BEGIN:VEVENT
UID:57b6ee595016e17ba21e7208@squarespace.com
DTSTAMP:20160819T113743Z
DTSTART:20160910T100000Z
DTEND:20160910T150000Z
SUMMARY:Church in Chains Conference
GEO:53.354583;-6.400125
LOCATION:Clarion Hotel\, Liffey Valley\, Dublin
END:VEVENT
END:VCALENDAR
