BEGIN:VCALENDAR
VERSION:2.0
PRODID:-//Squarespace Inc/Squarespace 6//v6//EN
BEGIN:VEVENT
UID:57b6ead2725e251d5adb7b0a@squarespace.com
DTSTAMP:20160819T113158Z
DTSTART:20160828T180000Z
DTEND:20160828T200000Z
SUMMARY:The Surprising Story of China
GEO:53.320056;-6.270788
LOCATION:Grosvenor Road Baptist Church\, Dublin 6\, Grosvenor Road\, Rathga
 r\, County Dublin\, Ireland
END:VEVENT
END:VCALENDAR
