BEGIN:VCALENDAR
VERSION:2.0
PRODID:-//Squarespace Inc/Squarespace 6//v6//EN
BEGIN:VEVENT
UID:57b6ec8f15d5dbdcc9976d22@squarespace.com
DTSTAMP:20160819T113056Z
DTSTART:20160824T174500Z
DTEND:20160824T200000Z
SUMMARY:Angus Buchan in Kilkenny
GEO:52.650494;-7.232867
LOCATION:The Hub\, Kilkenny\, Dublin Road\, Leggettsrath\, Co. Kilkenny
END:VEVENT
END:VCALENDAR
