BEGIN:VCALENDAR
VERSION:2.0
PRODID:-//Squarespace Inc/Squarespace 6//v6//EN
BEGIN:VEVENT
UID:5767a2f0b3db2b2a685f2b4c@squarespace.com
DTSTAMP:20160620T082901Z
DTSTART:20160729T090000Z
DTEND:20160730T153000Z
SUMMARY:"Strength to Strength" Foundation in Christian Counselling
GEO:53.343194;-6.281236
LOCATION:St Catherines Church\, Dublin\, Thomas Street\, Dublin\, Dublin\, 
 Ireland
END:VEVENT
END:VCALENDAR
