BEGIN:VCALENDAR
VERSION:2.0
PRODID:-//Squarespace Inc/Squarespace 6//v6//EN
BEGIN:VEVENT
UID:5762c7faebbd1aa283fee4a2@squarespace.com
DTSTAMP:20160616T155745Z
DTSTART:20160626T190000Z
DTEND:20160626T210000Z
SUMMARY:"I AM: FREE" Worship Concert
END:VEVENT
END:VCALENDAR
