BEGIN:VCALENDAR
VERSION:2.0
PRODID:-//Squarespace Inc/Squarespace 6//v6//EN
BEGIN:VEVENT
UID:57209695555986b16f11df15@squarespace.com
DTSTAMP:20160607T085145Z
DTSTART:20160613T080000Z
DTEND:20160614T160000Z
SUMMARY:ESSENTIAL 2016
GEO:53.342432;-6.281367
LOCATION:St. Catherine's\, Thomas Street\, Dublin
END:VEVENT
END:VCALENDAR
