BEGIN:VCALENDAR
VERSION:2.0
PRODID:-//Squarespace Inc/Squarespace 6//v6//EN
BEGIN:VEVENT
UID:572098a4356fb0ae213e26d5@squarespace.com
DTSTAMP:20160427T110829Z
DTSTART:20160503T090000Z
DTEND:20160503T100000Z
SUMMARY:Street Pastors Dublin
GEO:53.349805;-6.26031
LOCATION:Dublin
END:VEVENT
END:VCALENDAR
