BEGIN:VCALENDAR
VERSION:2.0
PRODID:-//Squarespace Inc/Squarespace 6//v6//EN
BEGIN:VEVENT
UID:56a9ed67a976afffa1d87d3d@squarespace.com
DTSTAMP:20160128T103804Z
DTSTART:20160311T193000Z
DTEND:20160311T213000Z
SUMMARY:An Evening Encounter With Christ's Holy Fire
GEO:53.200903;-6.111074
LOCATION:Esplanade Hotel\, Bray\, Bray
END:VEVENT
END:VCALENDAR
