BEGIN:VCALENDAR
VERSION:2.0
PRODID:-//Squarespace Inc/Squarespace 6//v6//EN
BEGIN:VEVENT
UID:56e2dd4be707ebda10e9d402@squarespace.com
DTSTAMP:20160311T151609Z
DTSTART:20160402T090000Z
DTEND:20160408T220000Z
SUMMARY:Amazing Grace Festival 2016
END:VEVENT
END:VCALENDAR
