BEGIN:VCALENDAR
VERSION:2.0
PRODID:-//Squarespace Inc/Squarespace 6//v6//EN
BEGIN:VEVENT
UID:580dd0785016e1d10f744380@squarespace.com
DTSTAMP:20161024T091336Z
DTSTART:20161206T193000Z
DTEND:20161206T213000Z
SUMMARY:Global Outreach Day | Launch Gathering - Sligo
GEO:53.971582;-8.302027
LOCATION:Sligo Methodist Church\, Sligo
END:VEVENT
END:VCALENDAR
