BEGIN:VCALENDAR
VERSION:2.0
PRODID:-//Squarespace Inc/Squarespace 6//v6//EN
BEGIN:VEVENT
UID:5800f1fb893fc04b4491327b@squarespace.com
DTSTAMP:20161024T090012Z
DTSTART:20161105T190000Z
DTEND:20161105T210000Z
SUMMARY:AsiaLink Worship Night
GEO:54.868827;-6.277157
LOCATION:Ballymena Baptist Church\, 18-22 Mount Street\, Ballymena\, Northe
 rn Ireland\, BT43 6BW\, United Kingdom
END:VEVENT
END:VCALENDAR
