BEGIN:VCALENDAR
VERSION:2.0
PRODID:-//Squarespace Inc/Squarespace 6//v6//EN
BEGIN:VEVENT
UID:5800f53d8419c2e268731637@squarespace.com
DTSTAMP:20161024T085944Z
DTSTART:20161129T193000Z
DTEND:20161129T213000Z
SUMMARY:Global Outreach Day Launch - Cork
GEO:51.901402;-8.467558
LOCATION:Grace Christian Church\, 53 MacCurtain Street\, Cork
END:VEVENT
END:VCALENDAR
