BEGIN:VCALENDAR
VERSION:2.0
PRODID:-//Squarespace Inc/Squarespace 6//v6//EN
BEGIN:VEVENT
UID:5800f47e197aea95712ccd70@squarespace.com
DTSTAMP:20161024T085925Z
DTSTART:20161128T193000Z
DTEND:20161128T213000Z
SUMMARY:Global Outreach Day Launch - Dublin
GEO:53.343118;-6.280219
LOCATION:St Catherine's Church\, Thomas Street\, Dublin 8\, County Dublin\, 
 Ireland
END:VEVENT
END:VCALENDAR
