BEGIN:VCALENDAR
VERSION:2.0
PRODID:-//Squarespace Inc/Squarespace 6//v6//EN
BEGIN:VEVENT
UID:57eb9dbb20099ecfc57b6eeb@squarespace.com
DTSTAMP:20160928T104448Z
DTSTART:20161126T093000Z
DTEND:20161126T160000Z
SUMMARY:Prayer Ministry Training Day\, Sligo
GEO:54.34935;-8.58492
LOCATION:Lissadell Centre\, Co. Sligo\, Lissadell\, Co. Sligo
END:VEVENT
END:VCALENDAR
