BEGIN:VCALENDAR
VERSION:2.0
PRODID:-//Squarespace Inc/Squarespace 6//v6//EN
BEGIN:VEVENT
UID:580dcf3420099e7e75c43321@squarespace.com
DTSTAMP:20161024T091539Z
DTSTART:20161122T193000Z
DTEND:20161122T213000Z
SUMMARY:Global Outreach Day | Launch Gathering - Lurgan
GEO:54.463526;-6.334551
LOCATION:Emmanuel Church\, Lurgan
END:VEVENT
END:VCALENDAR
