BEGIN:VCALENDAR
VERSION:2.0
PRODID:-//Squarespace Inc/Squarespace 6//v6//EN
BEGIN:VEVENT
UID:5800f3d4d1758e43f3e1cafc@squarespace.com
DTSTAMP:20161024T091347Z
DTSTART:20161114T193000Z
DTEND:20161114T213000Z
SUMMARY:Global Outreach Day Launch - Belfast
GEO:54.683036;-5.951382
LOCATION:Carmoney Church\, Carnmoney Church\, 258 Carnmoney Road\, BT36 6JZ 
 Newtownabbey
END:VEVENT
END:VCALENDAR
