BEGIN:VCALENDAR
VERSION:2.0
PRODID:-//Squarespace Inc/Squarespace 6//v6//EN
BEGIN:VEVENT
UID:57b6efec8419c25f89b3fa51@squarespace.com
DTSTAMP:20160922T150025Z
DTSTART:20161112T100000Z
DTEND:20161112T160000Z
SUMMARY:Evangelical Alliance National Forum
GEO:53.413506;-6.427919
LOCATION:Bethany Church\, Damastown\, Dublin 15.\, Damastown\, Dublin 15
END:VEVENT
END:VCALENDAR
