BEGIN:VCALENDAR
VERSION:2.0
PRODID:-//Squarespace Inc/Squarespace 6//v6//EN
BEGIN:VEVENT
UID:57e3f0392e69cffe30a4ff29@squarespace.com
DTSTAMP:20160926T133005Z
DTSTART:20161108T093000Z
DTEND:20161109T160000Z
SUMMARY:THRIVE
GEO:53.173544;-6.796914
LOCATION:Open Arms Church\, Newbridge\, 13 Newbridge Industrial Estate\, Ne
 wbridge\, Co. Kildare
END:VEVENT
END:VCALENDAR
