BEGIN:VCALENDAR
VERSION:2.0
PRODID:-//Squarespace Inc/Squarespace 6//v6//EN
BEGIN:VEVENT
UID:57e3ee4b5016e12f8810961f@squarespace.com
DTSTAMP:20161003T084552Z
DTSTART:20161008T083000Z
DTEND:20161008T150000Z
SUMMARY:PARADIGM
GEO:53.328562;-6.251897
LOCATION:Methodist Centenary Church\, Dublin 6\, Leeson Park\, Ranelagh\, C
 ounty Dublin\, Ireland
END:VEVENT
END:VCALENDAR
