BEGIN:VCALENDAR
VERSION:2.0
PRODID:-//Squarespace Inc/Squarespace 6//v6//EN
BEGIN:VEVENT
UID:580dcfb9ebbd1a2239a3c671@squarespace.com
DTSTAMP:20161024T091652Z
DTSTART:20161124T193000Z
DTEND:20161124T213000Z
SUMMARY:Global Outreach Day | Launch Gathering - Derry / Londonderry
GEO:54.996612;-7.308575
LOCATION:Clooney Hall Methodist Church\, Derry/Londonderry
END:VEVENT
END:VCALENDAR
