BEGIN:VCALENDAR
VERSION:2.0
PRODID:-//Squarespace Inc/Squarespace 6//v6//EN
BEGIN:VEVENT
UID:57eba16b29687f7b39621d65@squarespace.com
DTSTAMP:20160928T105555Z
DTSTART:20161022T090000Z
DTEND:20161022T113000Z
SUMMARY:Kingdom Women Cork
GEO:51.933827;-8.561244
LOCATION:Blarney\, Cork\, Blarney
END:VEVENT
END:VCALENDAR
