BEGIN:VCALENDAR
VERSION:2.0
PRODID:-//Squarespace Inc/Squarespace 6//v6//EN
BEGIN:VEVENT
UID:57eba03c197aea92a6c2d516@squarespace.com
DTSTAMP:20160928T105417Z
DTSTART:20161015T080000Z
DTEND:20161015T114500Z
SUMMARY:Kingdom Women Dollingstown
GEO:54.461594;-6.330958
LOCATION:St Saviour's Dollingstown\, A3\, Craigavon\, Northern Ireland\, BT
 66\, United Kingdom
END:VEVENT
END:VCALENDAR
