BEGIN:VCALENDAR
VERSION:2.0
PRODID:-//Squarespace Inc/Squarespace 6//v6//EN
BEGIN:VEVENT
UID:57eb9f6637c581c584f96482@squarespace.com
DTSTAMP:20160928T104909Z
DTSTART:20161001T083000Z
DTEND:20161001T150000Z
SUMMARY:Prayer Ministry Training Day\, Belfast
GEO:54.590877;-5.903368
LOCATION:Willowfield Church\, Belfast\, 149 My Ladys Road\, Belfast\, North
 ern Ireland\, BT6 8FE\, United Kingdom
END:VEVENT
END:VCALENDAR
