BEGIN:VCALENDAR
VERSION:2.0
PRODID:-//Squarespace Inc/Squarespace 6//v6//EN
BEGIN:VEVENT
UID:5658790ee4b0f0c1a0171e0f@squarespace.com
DTSTAMP:20160128T103959Z
DTSTART:20160130T100000Z
DTEND:20160130T160000Z
SUMMARY:Suicide Prevention and the Church (Dublin)
GEO:53.343542;-6.246333
LOCATION:Apostolic Church\, Dublin\, 67 Pearse Street\, Dublin\, Dublin\, I
 reland
END:VEVENT
END:VCALENDAR
