BEGIN:VCALENDAR
VERSION:2.0
PRODID:-//Squarespace Inc/Squarespace 6//v6//EN
BEGIN:VEVENT
UID:558acaf8e4b002a4489fd960@squarespace.com
DTSTAMP:20150624T153133Z
DTSTART:20150912T100000Z
DTEND:20150912T150000Z
SUMMARY:Church in Chains Annual Conference
GEO:53.421553;-7.997273
LOCATION:Athlone Springs Hotel
END:VEVENT
END:VCALENDAR
