BEGIN:VCALENDAR
VERSION:2.0
PRODID:-//Squarespace Inc/Squarespace 6//v6//EN
BEGIN:VEVENT
UID:54f6eb77e4b023b479e5aa7f@squarespace.com
DTSTAMP:20150309T153437Z
DTSTART:20150827T090000Z
DTEND:20150829T160000Z
SUMMARY:Leading for Life
GEO:52.4497;13.282728
LOCATION:Christus Gemeinde\, Berlin\, Germany
END:VEVENT
END:VCALENDAR
