BEGIN:VCALENDAR
VERSION:2.0
PRODID:-//Squarespace Inc/Squarespace 6//v6//EN
BEGIN:VEVENT
UID:557807bde4b0cabe06c8df3b@squarespace.com
DTSTAMP:20150612T134325Z
DTSTART:20150814T090000Z
DTEND:20150815T160000Z
SUMMARY:Amazing Kids Leadership Conference
GEO:53.175076;-6.804747
LOCATION:Open Arms Church\, Newbridge\, Newbridge\, Co. Kldare
END:VEVENT
END:VCALENDAR
