BEGIN:VCALENDAR
VERSION:2.0
PRODID:-//Squarespace Inc/Squarespace 6//v6//EN
BEGIN:VEVENT
UID:5593af50e4b0d62d66a7ff54@squarespace.com
DTSTAMP:20150701T153317Z
DTSTART:20150718T100000Z
DTEND:20150718T120000Z
SUMMARY:Cafe Talk
GEO:53.715126;-6.353936
LOCATION:Barlow House\,  Drogheda\, West St\, Drogheda\, Louth\, Ireland
END:VEVENT
END:VCALENDAR
