BEGIN:VCALENDAR
VERSION:2.0
PRODID:-//Squarespace Inc/Squarespace 6//v6//EN
BEGIN:VEVENT
UID:552ce830e4b0b39dd1fb96ed@squarespace.com
DTSTAMP:20150414T101922Z
DTSTART:20150605T083000Z
DTEND:20150606T153000Z
SUMMARY:IBI Summer Institute 2015
GEO:53.351896;-6.251377
LOCATION:Irish Bible Institute\, 22-24 Foley Street 1\, Dublin\, Dublin\, I
 reland
END:VEVENT
END:VCALENDAR
