BEGIN:VCALENDAR
VERSION:2.0
PRODID:-//Squarespace Inc/Squarespace 6//v6//EN
BEGIN:VEVENT
UID:556ed44de4b0efb9f320a0d6@squarespace.com
DTSTAMP:20150603T111524Z
DTSTART:20150619T191500Z
DTEND:20150619T211500Z
SUMMARY:Juneteenth: 150 Years of Freedom
GEO:53.344862;-6.264555
LOCATION:Button Factory\, Temple Bar\, Curved Street\, Dublin\, Dublin\, Ir
 eland
END:VEVENT
END:VCALENDAR
