BEGIN:VCALENDAR
VERSION:2.0
PRODID:-//Squarespace Inc/Squarespace 6//v6//EN
BEGIN:VEVENT
UID:552ba9e8e4b07da9f7ed8aee@squarespace.com
DTSTAMP:20150413T114202Z
DTSTART:20150522T173000Z
DTEND:20150523T080000Z
SUMMARY:Unlock your Dreams
GEO:53.351896;-6.251377
LOCATION:Ulysses House\, Dublin 1\, 22 - 24 Foley Street\, Dublin 1
END:VEVENT
END:VCALENDAR
