BEGIN:VCALENDAR
VERSION:2.0
PRODID:-//Squarespace Inc/Squarespace 6//v6//EN
BEGIN:VEVENT
UID:54f6e963e4b096adc56301ef@squarespace.com
DTSTAMP:20150304T112123Z
DTSTART:20150307T093000Z
DTEND:20150307T123000Z
SUMMARY:Proposing and Navigating Change Workshop
GEO:53.354462;-6.263772
LOCATION:Abbey Presbyterian Church\, Dublin
END:VEVENT
END:VCALENDAR
