BEGIN:VCALENDAR
VERSION:2.0
PRODID:-//Squarespace Inc/Squarespace 6//v6//EN
BEGIN:VEVENT
UID:54b53156e4b09c1818676346@squarespace.com
DTSTAMP:20150223T180937Z
DTSTART:20150314T100000Z
DTEND:20150314T170000Z
SUMMARY:Expect Church Leadership Conference
GEO:53.344786;-6.25107
LOCATION:St. Mark's Church\, Dublin 2
END:VEVENT
END:VCALENDAR
