BEGIN:VCALENDAR
VERSION:2.0
PRODID:-//Squarespace Inc/Squarespace 6//v6//EN
BEGIN:VEVENT
UID:547c4956e4b04a873e3d857d@squarespace.com
DTSTAMP:20150224T113552Z
DTSTART:20150228T100000Z
DTEND:20150228T130000Z
SUMMARY:VOX Dream Day Cork
GEO:51.899332;-8.471494
LOCATION:Trinity Presbyterian Church\, Cork\, Little William St\, Cork\, Co
 rk\, Ireland
END:VEVENT
END:VCALENDAR
