BEGIN:VCALENDAR
VERSION:2.0
PRODID:-//Squarespace Inc/Squarespace 6//v6//EN
BEGIN:VEVENT
UID:563216bae4b0afc2a04743d0@squarespace.com
DTSTAMP:20151029T130121Z
DTSTART:20151204T100000Z
DTEND:20151206T200000Z
SUMMARY:Christmas Tree Festival
END:VEVENT
END:VCALENDAR
