BEGIN:VCALENDAR
VERSION:2.0
PRODID:-//Squarespace Inc/Squarespace 6//v6//EN
BEGIN:VEVENT
UID:56587d3ae4b0b8077393bd14@squarespace.com
DTSTAMP:20160128T104614Z
DTSTART:20160220T100000Z
DTEND:20160220T160000Z
SUMMARY:Suicide Prevention and the Church (Sligo)
GEO:54.274056;-8.465068
LOCATION:Calry Church\, Sligo\, The Mall\, Sligo\, Sligo\, Ireland
END:VEVENT
END:VCALENDAR
