BEGIN:VCALENDAR
VERSION:2.0
PRODID:-//Squarespace Inc/Squarespace 6//v6//EN
BEGIN:VEVENT
UID:55df22d8e4b019f89c69909d@squarespace.com
DTSTAMP:20150827T145920Z
DTSTART:20151121T090000Z
DTEND:20151121T170000Z
SUMMARY:Evangelical Alliance National Forum on Evangelism
GEO:53.335035;-6.293647
LOCATION:Griffith Conference Centre\, Dublin 8\, S Circular Rd\, Dublin\, D
 ublin\, Ireland
END:VEVENT
END:VCALENDAR
