BEGIN:VCALENDAR
VERSION:2.0
PRODID:-//Squarespace Inc/Squarespace 6//v6//EN
BEGIN:VEVENT
UID:5632153ee4b083ad9cdff6ac@squarespace.com
DTSTAMP:20151029T130107Z
DTSTART:20151114T130000Z
DTEND:20151114T140000Z
SUMMARY:Rubicon
END:VEVENT
END:VCALENDAR
