BEGIN:VCALENDAR
VERSION:2.0
PRODID:-//Squarespace Inc/Squarespace 6//v6//EN
BEGIN:VEVENT
UID:56166314e4b09440b73be4cb@squarespace.com
DTSTAMP:20151008T124925Z
DTSTART:20151114T100000Z
DTEND:20151114T170000Z
SUMMARY:Raising a Generation
GEO:54.590896;-5.903352
LOCATION:Willowfield Church\, Belfast
END:VEVENT
END:VCALENDAR
