BEGIN:VCALENDAR
VERSION:2.0
PRODID:-//Squarespace Inc/Squarespace 6//v6//EN
BEGIN:VEVENT
UID:54b52e7ae4b07a4d3e46ffff@squarespace.com
DTSTAMP:20150113T150212Z
DTSTART:20150131T093000Z
DTEND:20150131T160000Z
SUMMARY:Imagine Church Workshop
GEO:53.332501;-6.258781
LOCATION:Adelaide Road Presbyterian Church
END:VEVENT
END:VCALENDAR
